BEGIN:VCALENDAR
VERSION:2.0
PRODID:-//Guardian Leadership - ECPv6.15.20//NONSGML v1.0//EN
CALSCALE:GREGORIAN
METHOD:PUBLISH
X-ORIGINAL-URL:https://guardianleadership.com
X-WR-CALDESC:Events for Guardian Leadership
REFRESH-INTERVAL;VALUE=DURATION:PT1H
X-Robots-Tag:noindex
X-PUBLISHED-TTL:PT1H
BEGIN:VTIMEZONE
TZID:America/New_York
BEGIN:DAYLIGHT
TZOFFSETFROM:-0500
TZOFFSETTO:-0400
TZNAME:EDT
DTSTART:20230312T070000
END:DAYLIGHT
BEGIN:STANDARD
TZOFFSETFROM:-0400
TZOFFSETTO:-0500
TZNAME:EST
DTSTART:20231105T060000
END:STANDARD
BEGIN:DAYLIGHT
TZOFFSETFROM:-0500
TZOFFSETTO:-0400
TZNAME:EDT
DTSTART:20240310T070000
END:DAYLIGHT
BEGIN:STANDARD
TZOFFSETFROM:-0400
TZOFFSETTO:-0500
TZNAME:EST
DTSTART:20241103T060000
END:STANDARD
BEGIN:DAYLIGHT
TZOFFSETFROM:-0500
TZOFFSETTO:-0400
TZNAME:EDT
DTSTART:20250309T070000
END:DAYLIGHT
BEGIN:STANDARD
TZOFFSETFROM:-0400
TZOFFSETTO:-0500
TZNAME:EST
DTSTART:20251102T060000
END:STANDARD
END:VTIMEZONE
BEGIN:VEVENT
DTSTART;VALUE=DATE:20241112
DTEND;VALUE=DATE:20241114
DTSTAMP:20260422T011820
CREATED:20240219T212433Z
LAST-MODIFIED:20240313T191646Z
UID:10000345-1731369600-1731542399@guardianleadership.com
SUMMARY:Developing a Culture of Leadership Excellence • Acworth\, GA
DESCRIPTION:GUARDIAN LEADERSHIP Developing a Culture of Leadership Excellence Workshop is intended for participants who want to learn how to intentionally foster a positive culture through role modeling\, creating shared values\, and by inspiring and empowering their employees to galvanize commitment and achieve organizational goals. \nThis TWO-DAY interactive workshop will explore the value of: \n\nCultivating a climate conducive to leadership growth and development\nClarifying and communicating a purpose that resonates with others\nDeﬁning and articulating a vision for your team and organization\nCreating shared values to galvanize commitment\nAchieving success in terms of a team\nBuilding a safe environment for taking risks and learning from failure\nDeveloping a successive leadership culture that lasts for generations\n\nCost:\n\nRegular Rate: $329\nMulti-registration Discount (5+): $269\n\n*Multi ticket discount is auto applied in your cart \nClick Here to download our Course Flyer \n\nLEARN MORE
URL:https://guardianleadership.com/course/developing-a-culture-of-leadership-excellence-acworth-ga-2/
LOCATION:Acworth Community Center\, 4361 Cherokee St.\, Acworth\, GA\, 30101\, United States
ATTACH;FMTTYPE=image/jpeg:https://guardianleadership.com/wp-content/uploads/2020/02/Developing_a_Culture_of_Leadership_Excellence-New-Product.jpg
END:VEVENT
BEGIN:VEVENT
DTSTART;VALUE=DATE:20241114
DTEND;VALUE=DATE:20241116
DTSTAMP:20260422T011820
CREATED:20240503T175258Z
LAST-MODIFIED:20240530T150429Z
UID:10000274-1731542400-1731715199@guardianleadership.com
SUMMARY:Developing a Culture of Leadership Excellence • New York State DCJS
DESCRIPTION:GUARDIAN LEADERSHIP Developing a Culture of Leadership Excellence Workshop is intended for participants who want to learn how to intentionally foster a positive culture through role modeling\, creating shared values\, and by inspiring and empowering their employees to galvanize commitment and achieve organizational goals. \nThis TWO-DAY interactive workshop will explore the value of: \n\nCultivating a climate conducive to leadership growth and development\nClarifying and communicating a purpose that resonates with others\nDeﬁning and articulating a vision for your team and organization\nCreating shared values to galvanize commitment\nAchieving success in terms of a team\nBuilding a safe environment for taking risks and learning from failure\nDeveloping a successive leadership culture that lasts for generations\n\n\nSpace in the course is by invitation only
URL:https://guardianleadership.com/course/developing-a-culture-of-leadership-excellence-new-york-state-dcjs/
LOCATION:Amherst Police Department\, 500 John James Audubon Pkwy\, Buffalo\, NY\, 14228\, United States
ATTACH;FMTTYPE=image/jpeg:https://guardianleadership.com/wp-content/uploads/2020/02/Developing_a_Culture_of_Leadership_Excellence-New-Product.jpg
END:VEVENT
BEGIN:VEVENT
DTSTART;TZID=America/New_York:20241122T090000
DTEND;TZID=America/New_York:20241122T160000
DTSTAMP:20260422T011820
CREATED:20240923T173318Z
LAST-MODIFIED:20240923T173318Z
UID:10000349-1732266000-1732291200@guardianleadership.com
SUMMARY:2024 PUBLIC SAFETY LEADERSHIP SUMMIT
DESCRIPTION:POST-Approved 7 hours of POST and Executive Credits \nWhat You’ll Experience:\n\nExpert Speakers: Hear from accomplished leaders in public safety who will share valuable insights and actionable strategies.\nInspiration and Practical Tools: Gain both motivational and practical advice to apply immediately to your leadership role.\nNetworking Opportunities: Connect with fellow leaders and professionals from various fields of public safety.\nBreakfast and Lunch Provided: Enjoy complimentary meals while engaging in meaningful discussions with other attendees.\n\nWhy Attend?\nWhether you’re an established leader or an emerging one\, the 2024 Public Safety Leadership Summit will provide you with the tools and inspiration you need to: \n\nElevate Your Leadership: Discover strategies for becoming a more effective and influential leader.\nNavigate Challenges: Learn practical ways to overcome the unique challenges faced in public safety leadership.\nSupport a Cause: All proceeds from the summit will be donated to charity\, making your participation a way to give back to the community.\n\nRegister Now\nDon’t miss this opportunity to invest in yourself and make a lasting impact on your leadership journey! Register today and secure your spot at the 2024 Public Safety Leadership Summit.
URL:https://guardianleadership.com/course/2024-public-safety-leadership-summit/
LOCATION:North Star Church\, 3413 Blue Springs Rd.\, Kennesaw\, GA\, 30144\, United States
CATEGORIES:Leadership Summit
ATTACH;FMTTYPE=image/jpeg:https://guardianleadership.com/wp-content/uploads/2024/09/PSLS_2024.jpg
END:VEVENT
END:VCALENDAR