BEGIN:VCALENDAR
VERSION:2.0
PRODID:-//Guardian Leadership - ECPv6.15.20//NONSGML v1.0//EN
CALSCALE:GREGORIAN
METHOD:PUBLISH
X-ORIGINAL-URL:https://guardianleadership.com
X-WR-CALDESC:Events for Guardian Leadership
REFRESH-INTERVAL;VALUE=DURATION:PT1H
X-Robots-Tag:noindex
X-PUBLISHED-TTL:PT1H
BEGIN:VTIMEZONE
TZID:America/Halifax
BEGIN:DAYLIGHT
TZOFFSETFROM:-0400
TZOFFSETTO:-0300
TZNAME:ADT
DTSTART:20180311T060000
END:DAYLIGHT
BEGIN:STANDARD
TZOFFSETFROM:-0300
TZOFFSETTO:-0400
TZNAME:AST
DTSTART:20181104T050000
END:STANDARD
BEGIN:DAYLIGHT
TZOFFSETFROM:-0400
TZOFFSETTO:-0300
TZNAME:ADT
DTSTART:20190310T060000
END:DAYLIGHT
BEGIN:STANDARD
TZOFFSETFROM:-0300
TZOFFSETTO:-0400
TZNAME:AST
DTSTART:20191103T050000
END:STANDARD
BEGIN:DAYLIGHT
TZOFFSETFROM:-0400
TZOFFSETTO:-0300
TZNAME:ADT
DTSTART:20200308T060000
END:DAYLIGHT
BEGIN:STANDARD
TZOFFSETFROM:-0300
TZOFFSETTO:-0400
TZNAME:AST
DTSTART:20201101T050000
END:STANDARD
END:VTIMEZONE
BEGIN:VEVENT
DTSTART;VALUE=DATE:20190515
DTEND;VALUE=DATE:20190517
DTSTAMP:20260419T160314
CREATED:20190220T191313Z
LAST-MODIFIED:20190402T143931Z
UID:10000214-1557878400-1558051199@guardianleadership.com
SUMMARY:Developing the Leader Within • Jonesboro\, GA
DESCRIPTION:This TWO-DAY workshop\, based on John Maxwell’s best-selling book\, Developing the Leader Within You 2.0\, will help you learn to grow and develop to your fullest leadership potential. Leadership doesn’t begin with a title or position\, leadership begins within. Developing your ability to lead is not about learning the latest management techniques and tactics\, it’s about positively influencing those you lead. This workshop provides proven principles and practices that you can immediately apply to improve your leadership skills.\n \nLEARN MORE
URL:https://guardianleadership.com/course/developing-the-leader-within-%e2%80%a2-jonesboro-ga/
LOCATION:Clayton County Police Department\, 7911 N. McDonough St.\, Jonesboro\, GA\, 30236\, United States
ATTACH;FMTTYPE=image/jpeg:https://guardianleadership.com/wp-content/uploads/2018/08/Personal_Leadership_product.jpg
END:VEVENT
BEGIN:VEVENT
DTSTART;VALUE=DATE:20190417
DTEND;VALUE=DATE:20190418
DTSTAMP:20260419T160314
CREATED:20190220T191050Z
LAST-MODIFIED:20190419T151037Z
UID:10000213-1555459200-1555545599@guardianleadership.com
SUMMARY:Building Great Teams • Dallas\, GA
DESCRIPTION:This ONE-DAY Building Great Teams Workshop provides practical training on building great teams and guiding them towards success. This workshop will leave students with valuable team leadership skills that can be applied immediately with noticeable results.\n \n\nLEARN MORE\n\n\nREGISTER NOW
URL:https://guardianleadership.com/course/building-great-teams-%e2%80%a2-dallas-ga/
LOCATION:Paulding County Training Center\, 284 Dallas Industrial Drive\, Dallas\, GA\, 30132\, United States
ATTACH;FMTTYPE=image/jpeg:https://guardianleadership.com/wp-content/uploads/2019/01/Building_Great_Teams-Product.jpg
END:VEVENT
BEGIN:VEVENT
DTSTART;VALUE=DATE:20190415
DTEND;VALUE=DATE:20190417
DTSTAMP:20260419T160314
CREATED:20190220T190804Z
LAST-MODIFIED:20190419T150955Z
UID:10000212-1555286400-1555459199@guardianleadership.com
SUMMARY:Laws of Leadership • Dallas\, GA
DESCRIPTION:This TWO-DAY workshop\, based on John Maxwell’s best-selling book\, The 21 Irrefutable Laws of Leadership\, will provide you with a direct pathway to achieving desired results through the application of key concepts and proven principles that have made other leaders great. In this workshop\, you will learn John Maxwell’s success principles of leadership based upon his 40+ years of experience. This course will teach you how to increase your ability to influence others and how to make continual investments in the quality of your leadership and those you lead. \n\n\nLEARN MORE\n\n\nREGISTER NOW
URL:https://guardianleadership.com/course/laws-of-leadership-%e2%80%a2-dallas-ga/
LOCATION:Paulding County Training Center\, 284 Dallas Industrial Drive\, Dallas\, GA\, 30132\, United States
ATTACH;FMTTYPE=image/jpeg:https://guardianleadership.com/wp-content/uploads/2018/08/Laws_Of_Leadership_product.jpg
END:VEVENT
END:VCALENDAR