BEGIN:VCALENDAR
VERSION:2.0
PRODID:-//Guardian Leadership - ECPv6.15.20//NONSGML v1.0//EN
CALSCALE:GREGORIAN
METHOD:PUBLISH
X-WR-CALNAME:Guardian Leadership
X-ORIGINAL-URL:https://guardianleadership.com
X-WR-CALDESC:Events for Guardian Leadership
REFRESH-INTERVAL;VALUE=DURATION:PT1H
X-Robots-Tag:noindex
X-PUBLISHED-TTL:PT1H
BEGIN:VTIMEZONE
TZID:America/Halifax
BEGIN:DAYLIGHT
TZOFFSETFROM:-0400
TZOFFSETTO:-0300
TZNAME:ADT
DTSTART:20230312T060000
END:DAYLIGHT
BEGIN:STANDARD
TZOFFSETFROM:-0300
TZOFFSETTO:-0400
TZNAME:AST
DTSTART:20231105T050000
END:STANDARD
BEGIN:DAYLIGHT
TZOFFSETFROM:-0400
TZOFFSETTO:-0300
TZNAME:ADT
DTSTART:20240310T060000
END:DAYLIGHT
BEGIN:STANDARD
TZOFFSETFROM:-0300
TZOFFSETTO:-0400
TZNAME:AST
DTSTART:20241103T050000
END:STANDARD
BEGIN:DAYLIGHT
TZOFFSETFROM:-0400
TZOFFSETTO:-0300
TZNAME:ADT
DTSTART:20250309T060000
END:DAYLIGHT
BEGIN:STANDARD
TZOFFSETFROM:-0300
TZOFFSETTO:-0400
TZNAME:AST
DTSTART:20251102T050000
END:STANDARD
END:VTIMEZONE
BEGIN:VEVENT
DTSTART;VALUE=DATE:20240912
DTEND;VALUE=DATE:20240914
DTSTAMP:20260423T025251
CREATED:20240503T175347Z
LAST-MODIFIED:20240530T150433Z
UID:10000346-1726099200-1726271999@guardianleadership.com
SUMMARY:Developing the Leader Within • New York State DCJS
DESCRIPTION:GUARDIAN LEADERSHIP presents Developing the Leader Within – a workshop designed to help you grow and develop to your fullest leadership potential. What is the key to improving your leadership? Improving yourself. Great leaders distinguish themselves through superior self-leadership. Leading yourself is about having a sense of who you are\, where you are going\, and the ability to influence your thinking\, feelings and actions along the way. Developing the leader within will allow you to become a more positive and effective leader from the inside-out. \nDuring this interactive workshop\, you will learn key concepts and proven principles that will increase your influence\, improve your personal effectiveness\, and multiply your impact. You will discover ways to lead yourself and others more effectively\, positively improving your life and the lives of those around you. \nWhat You’ll Learn \n\nThe 5 Levels of Leadership\nHow to transition from positional leadership to true influence\nKey characteristics required to effectively lead yourself and others\nThe importance of self-management and servanthood in leadership\nWays to prioritize your time for maximum effectiveness\nHow to achieve personal and professional success\n\n\nSpace in the course is by invitation only
URL:https://guardianleadership.com/course/developing-the-leader-within-new-york-state-dcjs/
LOCATION:Amherst Police Department\, 500 John James Audubon Pkwy\, Buffalo\, NY\, 14228\, United States
ATTACH;FMTTYPE=image/jpeg:https://guardianleadership.com/wp-content/uploads/2018/08/Personal_Leadership_product.jpg
END:VEVENT
END:VCALENDAR