BEGIN:VCALENDAR
VERSION:2.0
PRODID:-//Guardian Leadership - ECPv6.15.20//NONSGML v1.0//EN
CALSCALE:GREGORIAN
METHOD:PUBLISH
X-WR-CALNAME:Guardian Leadership
X-ORIGINAL-URL:https://guardianleadership.com
X-WR-CALDESC:Events for Guardian Leadership
REFRESH-INTERVAL;VALUE=DURATION:PT1H
X-Robots-Tag:noindex
X-PUBLISHED-TTL:PT1H
BEGIN:VTIMEZONE
TZID:America/Halifax
BEGIN:DAYLIGHT
TZOFFSETFROM:-0400
TZOFFSETTO:-0300
TZNAME:ADT
DTSTART:20240310T060000
END:DAYLIGHT
BEGIN:STANDARD
TZOFFSETFROM:-0300
TZOFFSETTO:-0400
TZNAME:AST
DTSTART:20241103T050000
END:STANDARD
BEGIN:DAYLIGHT
TZOFFSETFROM:-0400
TZOFFSETTO:-0300
TZNAME:ADT
DTSTART:20250309T060000
END:DAYLIGHT
BEGIN:STANDARD
TZOFFSETFROM:-0300
TZOFFSETTO:-0400
TZNAME:AST
DTSTART:20251102T050000
END:STANDARD
BEGIN:DAYLIGHT
TZOFFSETFROM:-0400
TZOFFSETTO:-0300
TZNAME:ADT
DTSTART:20260308T060000
END:DAYLIGHT
BEGIN:STANDARD
TZOFFSETFROM:-0300
TZOFFSETTO:-0400
TZNAME:AST
DTSTART:20261101T050000
END:STANDARD
END:VTIMEZONE
BEGIN:VEVENT
DTSTART;VALUE=DATE:20250109
DTEND;VALUE=DATE:20250111
DTSTAMP:20260423T063340
CREATED:20240709T195912Z
LAST-MODIFIED:20240709T195912Z
UID:10000348-1736380800-1736553599@guardianleadership.com
SUMMARY:Recruiting and Retention of Law Enforcement Officers • New York State DCJS
DESCRIPTION:Law Enforcement is facing unprecedented challenges recruiting and retaining quality personnel. There are many factors both inside and outside the organization contributing to this condition. The success of the department’s recruitment and retention efforts impacts every other function in the agency. This interactive learning experience will equip current and future leaders with practical tools to attract and retain officers. This workshop provides a comprehensive review of the factors affecting agencies’ ability to recruit and retain the best officers who ‘fit’ with your agency. \nGUARDIAN LEADERSHIP presents Recruiting and Retention of Law Enforcement Oﬃcers – a workshop designed to provide a comprehensive review of the factors aﬀecting agencies’ ability to recruit and retain the best oﬃcers. This workshop will equip you with practical tools to attract and retain quality oﬃcers. \nCost:\n\nRegular Rate: $329\nMulti-registration Discount (3+): $269\n\n\nSpace in the course is by invitation only\n 
URL:https://guardianleadership.com/course/recruiting-and-retention-of-law-enforcement-officers-new-york-state-dcjs/
LOCATION:Dutchess County Sheriff’s Office\, 108 Parker Ave.\, Poughkeepsie\, NY\, 12601\, United States
ATTACH;FMTTYPE=image/jpeg:https://guardianleadership.com/wp-content/uploads/2019/06/Recruiting_and_Retention_of_Law_Enforcement_Officers-Product.jpg
END:VEVENT
END:VCALENDAR